BEGIN:VCALENDAR
VERSION:2.0
PRODID:-// - ECPv6.15.20//NONSGML v1.0//EN
CALSCALE:GREGORIAN
METHOD:PUBLISH
X-ORIGINAL-URL:https://candlecoalition.org
X-WR-CALDESC:Events for 
REFRESH-INTERVAL;VALUE=DURATION:PT1H
X-Robots-Tag:noindex
X-PUBLISHED-TTL:PT1H
BEGIN:VTIMEZONE
TZID:America/New_York
BEGIN:DAYLIGHT
TZOFFSETFROM:-0500
TZOFFSETTO:-0400
TZNAME:EDT
DTSTART:20230312T070000
END:DAYLIGHT
BEGIN:STANDARD
TZOFFSETFROM:-0400
TZOFFSETTO:-0500
TZNAME:EST
DTSTART:20231105T060000
END:STANDARD
BEGIN:DAYLIGHT
TZOFFSETFROM:-0500
TZOFFSETTO:-0400
TZNAME:EDT
DTSTART:20240310T070000
END:DAYLIGHT
BEGIN:STANDARD
TZOFFSETFROM:-0400
TZOFFSETTO:-0500
TZNAME:EST
DTSTART:20241103T060000
END:STANDARD
BEGIN:DAYLIGHT
TZOFFSETFROM:-0500
TZOFFSETTO:-0400
TZNAME:EDT
DTSTART:20250309T070000
END:DAYLIGHT
BEGIN:STANDARD
TZOFFSETFROM:-0400
TZOFFSETTO:-0500
TZNAME:EST
DTSTART:20251102T060000
END:STANDARD
BEGIN:DAYLIGHT
TZOFFSETFROM:-0500
TZOFFSETTO:-0400
TZNAME:EDT
DTSTART:20260308T070000
END:DAYLIGHT
BEGIN:STANDARD
TZOFFSETFROM:-0400
TZOFFSETTO:-0500
TZNAME:EST
DTSTART:20261101T060000
END:STANDARD
END:VTIMEZONE
BEGIN:VEVENT
DTSTART;VALUE=DATE:20251230
DTEND;VALUE=DATE:20251231
DTSTAMP:20260421T190834
CREATED:20250317T160937Z
LAST-MODIFIED:20250317T160937Z
UID:3217-1767052800-1767139199@candlecoalition.org
SUMMARY:NO DECEMBER COALITION MEETING
DESCRIPTION:Happy holidays!  See you next year!
URL:https://candlecoalition.org/event/no-december-coalition-meeting/
CATEGORIES:Monthly Meeting
ATTACH;FMTTYPE=image/png:https://candlecoalition.org/wp-content/uploads/2024/10/Blog-Featured-Image-Logo-1921-x-1081.png
END:VEVENT
BEGIN:VEVENT
DTSTART;TZID=America/New_York:20251118T140000
DTEND;TZID=America/New_York:20251118T150000
DTSTAMP:20260421T190834
CREATED:20250317T160726Z
LAST-MODIFIED:20250317T160726Z
UID:3215-1763474400-1763478000@candlecoalition.org
SUMMARY:November CANDLE Coalition Meeting
DESCRIPTION:Join us for our monthly CANDLE Coalition meeting. You can attend either in-person at Access to Independence of Cortland County\, Inc. or on Zoom. To request the Zoom link\, please email the coalition at candle@aticortland.org.
URL:https://candlecoalition.org/event/november-candle-coalition-meeting-2/
LOCATION:Access to Independence of Cortland County\, Inc.\, 26 N Main St\, Cortland\, NY\, 13045\, United States
CATEGORIES:Monthly Meeting
ATTACH;FMTTYPE=image/png:https://candlecoalition.org/wp-content/uploads/2024/10/Blog-Featured-Image-Logo-1921-x-1081.png
ORGANIZER;CN="CANDLE Coalition":MAILTO:candle@aticortland.org
END:VEVENT
BEGIN:VEVENT
DTSTART;TZID=America/New_York:20251028T140000
DTEND;TZID=America/New_York:20251028T150000
DTSTAMP:20260421T190834
CREATED:20250317T160431Z
LAST-MODIFIED:20250317T160431Z
UID:3213-1761660000-1761663600@candlecoalition.org
SUMMARY:October CANDLE Coalition Meeting
DESCRIPTION:Join us for our monthly CANDLE Coalition meeting. You can attend either in-person at Access to Independence of Cortland County\, Inc. or on Zoom. To request the Zoom link\, please email the coalition at candle@aticortland.org.
URL:https://candlecoalition.org/event/october-candle-coalition-meeting-2/
LOCATION:Access to Independence of Cortland County\, Inc.\, 26 N Main St\, Cortland\, NY\, 13045\, United States
CATEGORIES:Monthly Meeting
ATTACH;FMTTYPE=image/png:https://candlecoalition.org/wp-content/uploads/2024/10/Blog-Featured-Image-Logo-1921-x-1081.png
ORGANIZER;CN="CANDLE Coalition":MAILTO:candle@aticortland.org
END:VEVENT
BEGIN:VEVENT
DTSTART;TZID=America/New_York:20250923T140000
DTEND;TZID=America/New_York:20250923T150000
DTSTAMP:20260421T190834
CREATED:20250317T160244Z
LAST-MODIFIED:20250911T143007Z
UID:3211-1758636000-1758639600@candlecoalition.org
SUMMARY:September CANDLE Coalition Meeting
DESCRIPTION:*ONE WEEK EARLY* Join us for our monthly CANDLE Coalition meeting. You can attend either in-person at Access to Independence of Cortland County\, Inc. or on Zoom. To request the Zoom link\, please email the coalition at candle@aticortland.org.
URL:https://candlecoalition.org/event/september-candle-coalition-meeting-2/
LOCATION:Access to Independence of Cortland County\, Inc.\, 26 N Main St\, Cortland\, NY\, 13045\, United States
CATEGORIES:Monthly Meeting
ATTACH;FMTTYPE=image/png:https://candlecoalition.org/wp-content/uploads/2024/10/Blog-Featured-Image-Logo-1921-x-1081.png
ORGANIZER;CN="CANDLE Coalition":MAILTO:candle@aticortland.org
END:VEVENT
BEGIN:VEVENT
DTSTART;TZID=America/New_York:20250826T140000
DTEND;TZID=America/New_York:20250826T150000
DTSTAMP:20260421T190834
CREATED:20250317T155556Z
LAST-MODIFIED:20250317T155556Z
UID:3207-1756216800-1756220400@candlecoalition.org
SUMMARY:August CANDLE Coalition Meeting
DESCRIPTION:Join us for our monthly CANDLE Coalition meeting. You can attend either in-person at Access to Independence of Cortland County\, Inc. or on Zoom. To request the Zoom link\, please email the coalition at candle@aticortland.org.
URL:https://candlecoalition.org/event/august-candle-coalition-meeting/
LOCATION:Access to Independence of Cortland County\, Inc.\, 26 N Main St\, Cortland\, NY\, 13045\, United States
CATEGORIES:Monthly Meeting
ATTACH;FMTTYPE=image/png:https://candlecoalition.org/wp-content/uploads/2024/10/Blog-Featured-Image-Logo-1921-x-1081.png
ORGANIZER;CN="CANDLE Coalition":MAILTO:candle@aticortland.org
END:VEVENT
BEGIN:VEVENT
DTSTART;VALUE=DATE:20250729
DTEND;VALUE=DATE:20250730
DTSTAMP:20260421T190834
CREATED:20250317T155858Z
LAST-MODIFIED:20250317T160057Z
UID:3209-1753747200-1753833599@candlecoalition.org
SUMMARY:NO JULY COALITION MEETING
DESCRIPTION:Summer break!
URL:https://candlecoalition.org/event/no-july-coalition-meeting/
CATEGORIES:Monthly Meeting
ATTACH;FMTTYPE=image/png:https://candlecoalition.org/wp-content/uploads/2024/10/Blog-Featured-Image-Logo-1921-x-1081.png
END:VEVENT
BEGIN:VEVENT
DTSTART;TZID=America/New_York:20250624T140000
DTEND;TZID=America/New_York:20250624T150000
DTSTAMP:20260421T190834
CREATED:20241205T154705Z
LAST-MODIFIED:20241205T155447Z
UID:2961-1750773600-1750777200@candlecoalition.org
SUMMARY:June CANDLE Coalition Meeting
DESCRIPTION:Join us for our monthly CANDLE Coalition meeting. You can attend either in-person at Access to Independence of Cortland County\, Inc. or on Zoom. To request the Zoom link\, please email the coalition at candle@aticortland.org.
URL:https://candlecoalition.org/event/june-candle-coalition-meeting/
LOCATION:Access to Independence of Cortland County\, Inc.\, 26 N Main St\, Cortland\, NY\, 13045\, United States
CATEGORIES:Monthly Meeting
ATTACH;FMTTYPE=image/png:https://candlecoalition.org/wp-content/uploads/2024/11/Blog-Featured-Image-Logo-1200-x-628.png
ORGANIZER;CN="CANDLE Coalition":MAILTO:candle@aticortland.org
END:VEVENT
BEGIN:VEVENT
DTSTART;TZID=America/New_York:20250527T140000
DTEND;TZID=America/New_York:20250527T150000
DTSTAMP:20260421T190834
CREATED:20241205T154601Z
LAST-MODIFIED:20241205T154601Z
UID:2958-1748354400-1748358000@candlecoalition.org
SUMMARY:May CANDLE Coalition Meeting
DESCRIPTION:Join us for our monthly CANDLE Coalition meeting. You can attend either in-person at Access to Independence of Cortland County\, Inc. or on Zoom. To request the Zoom link\, please email the coalition at candle@aticortland.org.
URL:https://candlecoalition.org/event/may-candle-coalition-meeting/
LOCATION:Access to Independence of Cortland County\, Inc.\, 26 N Main St\, Cortland\, NY\, 13045\, United States
CATEGORIES:Monthly Meeting
ATTACH;FMTTYPE=image/png:https://candlecoalition.org/wp-content/uploads/2024/11/Blog-Featured-Image-Logo-1200-x-628.png
ORGANIZER;CN="CANDLE Coalition":MAILTO:candle@aticortland.org
END:VEVENT
BEGIN:VEVENT
DTSTART;TZID=America/New_York:20250429T140000
DTEND;TZID=America/New_York:20250429T150000
DTSTAMP:20260421T190834
CREATED:20241205T154402Z
LAST-MODIFIED:20250429T132326Z
UID:2956-1745935200-1745938800@candlecoalition.org
SUMMARY:CANCELLED: April CANDLE Coalition Meeting
DESCRIPTION:THIS EVENT HAS BEEN CANCELLED.  Join us for our monthly CANDLE Coalition meeting. You can attend either in-person at Access to Independence of Cortland County\, Inc. or on Zoom. To request the Zoom link\, please email the coalition at candle@aticortland.org.
URL:https://candlecoalition.org/event/april-candle-coalition-meeting/
LOCATION:Access to Independence of Cortland County\, Inc.\, 26 N Main St\, Cortland\, NY\, 13045\, United States
CATEGORIES:Monthly Meeting
ATTACH;FMTTYPE=image/png:https://candlecoalition.org/wp-content/uploads/2024/11/Blog-Featured-Image-Logo-1200-x-628.png
ORGANIZER;CN="CANDLE Coalition":MAILTO:candle@aticortland.org
END:VEVENT
BEGIN:VEVENT
DTSTART;TZID=America/New_York:20250325T140000
DTEND;TZID=America/New_York:20250325T150000
DTSTAMP:20260421T190834
CREATED:20241205T154119Z
LAST-MODIFIED:20241205T154838Z
UID:2954-1742911200-1742914800@candlecoalition.org
SUMMARY:March CANDLE Coalition Meeting
DESCRIPTION:Join us for our monthly CANDLE Coalition meeting. You can attend either in-person at Access to Independence of Cortland County\, Inc. or on Zoom. To request the Zoom link\, please email the coalition at candle@aticortland.org.
URL:https://candlecoalition.org/event/march-candle-coalition-meeting/
LOCATION:Access to Independence of Cortland County\, Inc.\, 26 N Main St\, Cortland\, NY\, 13045\, United States
CATEGORIES:Monthly Meeting
ATTACH;FMTTYPE=image/png:https://candlecoalition.org/wp-content/uploads/2024/11/Blog-Featured-Image-Logo-1200-x-628.png
ORGANIZER;CN="CANDLE Coalition":MAILTO:candle@aticortland.org
END:VEVENT
BEGIN:VEVENT
DTSTART;TZID=America/New_York:20250225T140000
DTEND;TZID=America/New_York:20250225T150000
DTSTAMP:20260421T190834
CREATED:20241205T153839Z
LAST-MODIFIED:20241205T154801Z
UID:2952-1740492000-1740495600@candlecoalition.org
SUMMARY:February CANDLE Coalition Meeting
DESCRIPTION:Join us for our monthly CANDLE Coalition meeting. You can attend either in-person at Access to Independence of Cortland County\, Inc. or on Zoom. To request the Zoom link\, please email the coalition at candle@aticortland.org.
URL:https://candlecoalition.org/event/february-candle-coalition-meeting/
LOCATION:Access to Independence of Cortland County\, Inc.\, 26 N Main St\, Cortland\, NY\, 13045\, United States
CATEGORIES:Monthly Meeting
ATTACH;FMTTYPE=image/png:https://candlecoalition.org/wp-content/uploads/2024/11/Blog-Featured-Image-Logo-1200-x-628.png
ORGANIZER;CN="CANDLE Coalition":MAILTO:candle@aticortland.org
END:VEVENT
BEGIN:VEVENT
DTSTART;TZID=America/New_York:20250128T140000
DTEND;TZID=America/New_York:20250128T150000
DTSTAMP:20260421T190834
CREATED:20241205T153654Z
LAST-MODIFIED:20241205T154733Z
UID:2950-1738072800-1738076400@candlecoalition.org
SUMMARY:January CANDLE Coalition Meeting
DESCRIPTION:Join us for our monthly CANDLE Coalition meeting. You can attend either in-person at Access to Independence of Cortland County\, Inc. or on Zoom. To request the Zoom link\, please email the coalition at candle@aticortland.org.
URL:https://candlecoalition.org/event/january-candle-coalition-meeting/
LOCATION:Access to Independence of Cortland County\, Inc.\, 26 N Main St\, Cortland\, NY\, 13045\, United States
CATEGORIES:Monthly Meeting
ATTACH;FMTTYPE=image/png:https://candlecoalition.org/wp-content/uploads/2024/11/Blog-Featured-Image-Logo-1200-x-628.png
ORGANIZER;CN="CANDLE Coalition":MAILTO:candle@aticortland.org
END:VEVENT
BEGIN:VEVENT
DTSTART;TZID=America/New_York:20241231T140000
DTEND;TZID=America/New_York:20241231T150000
DTSTAMP:20260421T190834
CREATED:20241120T165740Z
LAST-MODIFIED:20241122T160548Z
UID:2841-1735653600-1735657200@candlecoalition.org
SUMMARY:NO DECEMBER COALITION MEETING
DESCRIPTION:Happy Holidays!
URL:https://candlecoalition.org/event/no-december-meeting/
ATTACH;FMTTYPE=image/png:https://candlecoalition.org/wp-content/uploads/2024/11/Event-Logo-500-x-281.png
END:VEVENT
BEGIN:VEVENT
DTSTART;TZID=America/New_York:20241217T173000
DTEND;TZID=America/New_York:20241217T183000
DTSTAMP:20260421T190834
CREATED:20241122T154335Z
LAST-MODIFIED:20241205T162007Z
UID:2888-1734456600-1734460200@candlecoalition.org
SUMMARY:Artists' Workgroup: Intro Meeting
DESCRIPTION:CANDLE is looking for artists with lived experience with disability\, mental health\, or substance use/recovery to join our winter Artists’ Workgroup. \nPurpose: This group will work together to design a series of art-quality posters around the theme “Disability Visibility.” Posters should highlight the reality of living with disabilities from a peer perspective while encouraging alternatives to substance use. Posters will be showcased during CANDLE’s Fall 2025 Data & Art Walk\, an event to highlight the coalition’s work to reduce substance use within the disability community. \nFor more information\, contact Dave Deckard\, Artists’ Workgroup Facilitator at dave.deckard@aticortland.org.
URL:https://candlecoalition.org/event/artists-workgroup/
LOCATION:Access to Independence of Cortland County\, Inc.\, 26 N Main St\, Cortland\, NY\, 13045\, United States
CATEGORIES:Artists' Workgroup
ATTACH;FMTTYPE=image/png:https://candlecoalition.org/wp-content/uploads/2024/11/Blog-Featured-Image-Logo-1200-x-628.png
ORGANIZER;CN="CANDLE Coalition":MAILTO:candle@aticortland.org
END:VEVENT
BEGIN:VEVENT
DTSTART;TZID=America/New_York:20241126T140000
DTEND;TZID=America/New_York:20241126T150000
DTSTAMP:20260421T190834
CREATED:20240809T195627Z
LAST-MODIFIED:20241120T182357Z
UID:2221-1732629600-1732633200@candlecoalition.org
SUMMARY:November CANDLE Coalition Meeting
DESCRIPTION:Join us for our monthly CANDLE Coalition meeting. You can attend either in-person at Access to Independence of Cortland County\, Inc. or on Zoom. To request the Zoom link\, please email the coalition at candle@aticortland.org.
URL:https://candlecoalition.org/event/november-candle-coalition-meeting/
LOCATION:Access to Independence of Cortland County\, Inc.\, 26 N Main St\, Cortland\, NY\, 13045\, United States
CATEGORIES:Monthly Meeting
ATTACH;FMTTYPE=image/png:https://candlecoalition.org/wp-content/uploads/2024/11/Event-Logo-500-x-281.png
ORGANIZER;CN="CANDLE Coalition":MAILTO:candle@aticortland.org
END:VEVENT
BEGIN:VEVENT
DTSTART;TZID=America/New_York:20241029T140000
DTEND;TZID=America/New_York:20241029T150000
DTSTAMP:20260421T190834
CREATED:20240809T195336Z
LAST-MODIFIED:20241028T200345Z
UID:2219-1730210400-1730214000@candlecoalition.org
SUMMARY:October CANDLE Coalition Meeting
DESCRIPTION:[fusion_builder_container type=”flex” hundred_percent=”no” equal_height_columns=”no” hide_on_mobile=”small-visibility\,medium-visibility\,large-visibility” background_position=”center center” background_repeat=”no-repeat” fade=”no” background_parallax=”none” parallax_speed=”0.3″ video_aspect_ratio=”16:9″ video_loop=”yes” video_mute=”yes” border_style=”solid”][fusion_builder_row][fusion_builder_column type=”1_1″ layout=”1_1″ background_position=”left top” border_style=”solid” border_position=”all” spacing=”yes” background_repeat=”no-repeat” margin_top=”0px” margin_bottom=”0px” animation_speed=”0.3″ animation_direction=”left” hide_on_mobile=”small-visibility\,medium-visibility\,large-visibility” center_content=”no” last=”true” hover_type=”none” min_height=”” link=”” background_blend_mode=”overlay” first=”true”][fusion_text] \nJoin us for our monthly CANDLE Coalition meeting. You can attend either in-person at Access to Independence of Cortland County\, Inc. or on Zoom. To request the Zoom link\, please email the coalition at candle@aticortland.org. \n[/fusion_text][/fusion_builder_column][/fusion_builder_row][/fusion_builder_container]
URL:https://candlecoalition.org/event/october-candle-coalition-meeting/
LOCATION:Access to Independence of Cortland County\, Inc.\, 26 N Main St\, Cortland\, NY\, 13045\, United States
CATEGORIES:Monthly Meeting
ORGANIZER;CN="CANDLE Coalition":MAILTO:candle@aticortland.org
END:VEVENT
BEGIN:VEVENT
DTSTART;TZID=America/New_York:20240924T140000
DTEND;TZID=America/New_York:20240924T150000
DTSTAMP:20260421T190834
CREATED:20240809T194947Z
LAST-MODIFIED:20240820T140346Z
UID:2216-1727186400-1727190000@candlecoalition.org
SUMMARY:September CANDLE Coalition Meeting
DESCRIPTION:[fusion_builder_container type=”flex” hundred_percent=”no” equal_height_columns=”no” hide_on_mobile=”small-visibility\,medium-visibility\,large-visibility” background_position=”center center” background_repeat=”no-repeat” fade=”no” background_parallax=”none” parallax_speed=”0.3″ video_aspect_ratio=”16:9″ video_loop=”yes” video_mute=”yes” border_style=”solid”][fusion_builder_row][fusion_builder_column type=”1_1″ type=”1_1″ background_position=”left top” border_style=”solid” border_position=”all” spacing=”yes” background_repeat=”no-repeat” margin_top=”0px” margin_bottom=”0px” animation_speed=”0.3″ animation_direction=”left” hide_on_mobile=”small-visibility\,medium-visibility\,large-visibility” center_content=”no” last=”no” hover_type=”none” min_height=”” link=””][fusion_text] \nJoin us for our monthly CANDLE Coalition meeting.  You can attend either in-person at Access to Independence of Cortland County\, Inc. or on Zoom.  To request the Zoom link\, please email the coalition at candle@aticortland.org. \n[/fusion_text][/fusion_builder_column][/fusion_builder_row][/fusion_builder_container]
URL:https://candlecoalition.org/event/september-candle-coalition-meeting/
LOCATION:Access to Independence of Cortland County\, Inc.\, 26 N Main St\, Cortland\, NY\, 13045\, United States
CATEGORIES:Monthly Meeting
ATTACH;FMTTYPE=image/svg+xml:https://candlecoalition.org/wp-content/uploads/2024/08/CANDLE-Coalition-Website-Header-Logo-500-x-500-px.svg
ORGANIZER;CN="CANDLE Coalition":MAILTO:candle@aticortland.org
END:VEVENT
BEGIN:VEVENT
DTSTART;TZID=America/New_York:20240820T140000
DTEND;TZID=America/New_York:20240820T150000
DTSTAMP:20260421T190834
CREATED:20240820T143044Z
LAST-MODIFIED:20240820T155022Z
UID:2470-1724162400-1724166000@candlecoalition.org
SUMMARY:August CANDLE Coalition Meeting
DESCRIPTION:[fusion_builder_container type=”flex” hundred_percent=”no” equal_height_columns=”no” hide_on_mobile=”small-visibility\,medium-visibility\,large-visibility” background_position=”center center” background_repeat=”no-repeat” fade=”no” background_parallax=”none” parallax_speed=”0.3″ video_aspect_ratio=”16:9″ video_loop=”yes” video_mute=”yes” border_style=”solid”][fusion_builder_row][fusion_builder_column type=”1_1″ layout=”1_1″ background_position=”left top” border_style=”solid” border_position=”all” spacing=”yes” background_repeat=”no-repeat” margin_top=”0px” margin_bottom=”0px” animation_speed=”0.3″ animation_direction=”left” hide_on_mobile=”small-visibility\,medium-visibility\,large-visibility” center_content=”no” last=”true” hover_type=”none” min_height=”” link=”” background_blend_mode=”overlay” first=”true”][fusion_text] \nJoin us for our monthly CANDLE Coalition meeting. You can attend either in-person at Access to Independence of Cortland County\, Inc. or on Zoom. To request the Zoom link\, please email the coalition at candle@aticortland.org. \n[/fusion_text][/fusion_builder_column][/fusion_builder_row][/fusion_builder_container]
URL:https://candlecoalition.org/event/august-monthly-candle-meeting/
LOCATION:Access to Independence of Cortland County\, Inc.\, 26 N Main St\, Cortland\, NY\, 13045\, United States
CATEGORIES:Monthly Meeting
ATTACH;FMTTYPE=image/svg+xml:https://candlecoalition.org/wp-content/uploads/2024/08/CANDLE-Coalition-Website-Header-Logo-500-x-500-px.svg
ORGANIZER;CN="CANDLE Coalition":MAILTO:candle@aticortland.org
END:VEVENT
END:VCALENDAR